BEGIN:VCALENDAR
PRODID:-//nuDatenautomaten//framework iCal4j //DE
VERSION:2.0
CALSCALE:GREGORIAN
BEGIN:VTIMEZONE
TZID:Europe/Berlin
LAST-MODIFIED:20260306T231828Z
TZURL:https://www.tzurl.org/zoneinfo/Europe/Berlin
X-LIC-LOCATION:Europe/Berlin
X-PROLEPTIC-TZNAME:LMT
BEGIN:STANDARD
TZNAME:CET
TZOFFSETFROM:+005328
TZOFFSETTO:+0100
DTSTART:18930401T000000
END:STANDARD
BEGIN:DAYLIGHT
TZNAME:CEST
TZOFFSETFROM:+0100
TZOFFSETTO:+0200
DTSTART:19160430T230000
RDATE:19400401T020000
RDATE:19430329T020000
RDATE:19460414T020000
RDATE:19470406T030000
RDATE:19480418T020000
RDATE:19490410T020000
RDATE:19800406T020000
END:DAYLIGHT
BEGIN:STANDARD
TZNAME:CET
TZOFFSETFROM:+0200
TZOFFSETTO:+0100
DTSTART:19161001T010000
RDATE:19421102T030000
RDATE:19431004T030000
RDATE:19441002T030000
RDATE:19451118T030000
RDATE:19461007T030000
END:STANDARD
BEGIN:DAYLIGHT
TZNAME:CEST
TZOFFSETFROM:+0100
TZOFFSETTO:+0200
DTSTART:19170416T020000
RRULE:FREQ=YEARLY;UNTIL=19180415T010000Z;BYMONTH=4;BYDAY=3MO
END:DAYLIGHT
BEGIN:STANDARD
TZNAME:CET
TZOFFSETFROM:+0200
TZOFFSETTO:+0100
DTSTART:19170917T030000
RRULE:FREQ=YEARLY;UNTIL=19180916T010000Z;BYMONTH=9;BYDAY=3MO
END:STANDARD
BEGIN:DAYLIGHT
TZNAME:CEST
TZOFFSETFROM:+0100
TZOFFSETTO:+0200
DTSTART:19440403T020000
RRULE:FREQ=YEARLY;UNTIL=19450402T010000Z;BYMONTH=4;BYDAY=1MO
END:DAYLIGHT
BEGIN:DAYLIGHT
TZNAME:CEMT
TZOFFSETFROM:+0200
TZOFFSETTO:+0300
DTSTART:19450524T020000
RDATE:19470511T030000
END:DAYLIGHT
BEGIN:DAYLIGHT
TZNAME:CEST
TZOFFSETFROM:+0300
TZOFFSETTO:+0200
DTSTART:19450924T030000
RDATE:19470629T030000
END:DAYLIGHT
BEGIN:STANDARD
TZNAME:CET
TZOFFSETFROM:+0100
TZOFFSETTO:+0100
DTSTART:19460101T000000
RDATE:19800101T000000
END:STANDARD
BEGIN:STANDARD
TZNAME:CET
TZOFFSETFROM:+0200
TZOFFSETTO:+0100
DTSTART:19471005T030000
RRULE:FREQ=YEARLY;UNTIL=19491002T010000Z;BYMONTH=10;BYDAY=1SU
END:STANDARD
BEGIN:STANDARD
TZNAME:CET
TZOFFSETFROM:+0200
TZOFFSETTO:+0100
DTSTART:19800928T030000
RRULE:FREQ=YEARLY;UNTIL=19950924T010000Z;BYMONTH=9;BYDAY=-1SU
END:STANDARD
BEGIN:DAYLIGHT
TZNAME:CEST
TZOFFSETFROM:+0100
TZOFFSETTO:+0200
DTSTART:19810329T020000
RRULE:FREQ=YEARLY;BYMONTH=3;BYDAY=-1SU
END:DAYLIGHT
BEGIN:STANDARD
TZNAME:CET
TZOFFSETFROM:+0200
TZOFFSETTO:+0100
DTSTART:19961027T030000
RRULE:FREQ=YEARLY;BYMONTH=10;BYDAY=-1SU
END:STANDARD
END:VTIMEZONE
BEGIN:VEVENT
DTSTAMP:20260419T174618Z
DTSTART;TZID=Europe/Berlin:20260116T200000
DTEND;TZID=Europe/Berlin:20260116T223000
SUMMARY:3. Bezirksliga_West DC Goldbach III vs TV/DC Sulzbach am Main (36)
UID:8d02a9d7-9641-4d60-9836-9bc9c47975c9
STATUS:CONFIRMED
LAST-MODIFIED:20260119T183934Z
DESCRIPTION:3. Bezirksliga West\nBegegnungs-Nr: 36\nHeim: DC Goldbach III\nGast: TV/DC Sulzbach am Main\nHalle: Altes Feuerwehrhaus (09030040)\nAdresse: Sachsenhausen 17\, 63773 Goldbach\n
LOCATION:Altes Feuerwehrhaus (09030040): Sachsenhausen 17\, 63773 Goldbach
CATEGORIES:Saison 2025/26
END:VEVENT
BEGIN:VEVENT
DTSTAMP:20260419T174618Z
DTSTART;TZID=Europe/Berlin:20251010T200000
DTEND;TZID=Europe/Berlin:20251010T223000
SUMMARY:3. Bezirksliga_West DC Goldbach III vs Dartclub FC 1951 Eichenberg e.V. (6)
UID:537ebf68-607e-4f6a-bd27-889717d90ac4
STATUS:CONFIRMED
LAST-MODIFIED:20251019T192930Z
DESCRIPTION:3. Bezirksliga West\nBegegnungs-Nr: 6\nHeim: DC Goldbach III\nGast: Dartclub FC 1951 Eichenberg e.V.\nHalle: Altes Feuerwehrhaus (09030040)\nAdresse: Sachsenhausen 17\, 63773 Goldbach\n
LOCATION:Altes Feuerwehrhaus (09030040): Sachsenhausen 17\, 63773 Goldbach
CATEGORIES:Saison 2025/26
END:VEVENT
BEGIN:VEVENT
DTSTAMP:20260419T174618Z
DTSTART;TZID=Europe/Berlin:20251205T200000
DTEND;TZID=Europe/Berlin:20251205T223000
SUMMARY:3. Bezirksliga_West DC Goldbach III vs Spikkerfreunde Frammersbach (16)
UID:b1092974-25f0-4778-a0d9-196e8f905207
STATUS:CONFIRMED
LAST-MODIFIED:20251208T113409Z
DESCRIPTION:3. Bezirksliga West\nBegegnungs-Nr: 16\nHeim: DC Goldbach III\nGast: Spikkerfreunde Frammersbach\nHalle: Altes Feuerwehrhaus (09030040)\nAdresse: Sachsenhausen 17\, 63773 Goldbach\n
LOCATION:Altes Feuerwehrhaus (09030040): Sachsenhausen 17\, 63773 Goldbach
CATEGORIES:Saison 2025/26
END:VEVENT
BEGIN:VEVENT
DTSTAMP:20260419T174618Z
DTSTART;TZID=Europe/Berlin:20260227T190000
DTEND;TZID=Europe/Berlin:20260227T213000
SUMMARY:3. Bezirksliga_West DC Goldbach III vs Dartclub FC 1951 Eichenberg e.V. (6)
UID:2ee20449-4a84-4ced-9fb5-cff14b302b76
STATUS:CONFIRMED
LAST-MODIFIED:20260301T194850Z
DESCRIPTION:3. Bezirksliga West\nBegegnungs-Nr: 6\nHeim: DC Goldbach III\nGast: Dartclub FC 1951 Eichenberg e.V.\nHalle: Sportheim FC Eichenberg e.V. (09030490)\nAdresse: Waldgartenstrasse\, 63877 Sailauf-Eichenberg\n
LOCATION:Sportheim FC Eichenberg e.V. (09030490): Waldgartenstrasse\, 63877 Sailauf-Eichenberg
CATEGORIES:Saison 2025/26
END:VEVENT
BEGIN:VEVENT
DTSTAMP:20260419T174618Z
DTSTART;TZID=Europe/Berlin:20260313T200000
DTEND;TZID=Europe/Berlin:20260313T223000
SUMMARY:3. Bezirksliga_West DC Goldbach III vs DC Steinbach (11)
UID:b968c0c2-edf7-4aa2-90ad-77b36f70bfd8
STATUS:CONFIRMED
LAST-MODIFIED:20260315T122036Z
DESCRIPTION:3. Bezirksliga West\nBegegnungs-Nr: 11\nHeim: DC Goldbach III\nGast: DC Steinbach\nHalle: Altes Feuerwehrhaus (09030040)\nAdresse: Sachsenhausen 17\, 63773 Goldbach\n
LOCATION:Altes Feuerwehrhaus (09030040): Sachsenhausen 17\, 63773 Goldbach
CATEGORIES:Saison 2025/26
END:VEVENT
BEGIN:VEVENT
DTSTAMP:20260419T174618Z
DTSTART;TZID=Europe/Berlin:20251212T200000
DTEND;TZID=Europe/Berlin:20251212T223000
SUMMARY:3. Bezirksliga_West DC Goldbach III vs Oscheff Wildboars (26)
UID:717640be-0269-4b22-8879-872ac76dcae1
STATUS:CONFIRMED
LAST-MODIFIED:20251217T140002Z
DESCRIPTION:3. Bezirksliga West\nBegegnungs-Nr: 26\nHeim: DC Goldbach III\nGast: Oscheff Wildboars\nHalle: Altes Feuerwehrhaus (09030040)\nAdresse: Sachsenhausen 17\, 63773 Goldbach\n
LOCATION:Altes Feuerwehrhaus (09030040): Sachsenhausen 17\, 63773 Goldbach
CATEGORIES:Saison 2025/26
END:VEVENT
BEGIN:VEVENT
DTSTAMP:20260419T174618Z
DTSTART;TZID=Europe/Berlin:20260327T190000
DTEND;TZID=Europe/Berlin:20260327T213000
SUMMARY:3. Bezirksliga_West DC Goldbach III vs Spikkerfreunde Frammersbach (16)
UID:ce1a328c-4648-407c-9abb-bbc7130754bf
STATUS:CONFIRMED
LAST-MODIFIED:20260401T183222Z
DESCRIPTION:3. Bezirksliga West\nBegegnungs-Nr: 16\nHeim: DC Goldbach III\nGast: Spikkerfreunde Frammersbach\nHalle: Jugendzentrum Frammersbach (09030470)\nAdresse: Schulstrasse 5\, 97833 Frammersbach\n
LOCATION:Jugendzentrum Frammersbach (09030470): Schulstrasse 5\, 97833 Frammersbach
CATEGORIES:Saison 2025/26
END:VEVENT
BEGIN:VEVENT
DTSTAMP:20260419T174618Z
DTSTART;TZID=Europe/Berlin:20260410T200000
DTEND;TZID=Europe/Berlin:20260410T223000
SUMMARY:3. Bezirksliga_West DC Goldbach III vs SV Viktoria Waldaschaff 1928 e.V. (21)
UID:745f56a4-def5-4a00-a18d-68c2793d7231
STATUS:CONFIRMED
LAST-MODIFIED:20260412T082056Z
DESCRIPTION:3. Bezirksliga West\nBegegnungs-Nr: 21\nHeim: DC Goldbach III\nGast: SV Viktoria Waldaschaff 1928 e.V.\nHalle: Altes Feuerwehrhaus (09030040)\nAdresse: Sachsenhausen 17\, 63773 Goldbach\n
LOCATION:Altes Feuerwehrhaus (09030040): Sachsenhausen 17\, 63773 Goldbach
CATEGORIES:Saison 2025/26
END:VEVENT
BEGIN:VEVENT
DTSTAMP:20260419T174618Z
DTSTART;TZID=Europe/Berlin:20260208T163000
DTEND;TZID=Europe/Berlin:20260208T190000
SUMMARY:3. Bezirksliga_West DC Goldbach III vs DC Goldbach II (1)
UID:66ab0ac4-88d6-4c31-a759-978eac2259a4
STATUS:CONFIRMED
LAST-MODIFIED:20260301T194751Z
DESCRIPTION:3. Bezirksliga West\nBegegnungs-Nr: 1\nHeim: DC Goldbach III\nGast: DC Goldbach II\nHalle: Altes Feuerwehrhaus (09030040)\nAdresse: Sachsenhausen 17\, 63773 Goldbach\n
LOCATION:Altes Feuerwehrhaus (09030040): Sachsenhausen 17\, 63773 Goldbach
CATEGORIES:Saison 2025/26
END:VEVENT
BEGIN:VEVENT
DTSTAMP:20260419T174618Z
DTSTART;TZID=Europe/Berlin:20260508T200000
DTEND;TZID=Europe/Berlin:20260508T223000
SUMMARY:3. Bezirksliga_West DC Goldbach III vs TV Schweinheim (31)
UID:bdb7d558-4a01-49a5-82ce-2402d847c70b
STATUS:CONFIRMED
DESCRIPTION:3. Bezirksliga West\nBegegnungs-Nr: 31\nHeim: DC Goldbach III\nGast: TV Schweinheim\nHalle: Altes Feuerwehrhaus (09030040)\nAdresse: Sachsenhausen 17\, 63773 Goldbach\n
LOCATION:Altes Feuerwehrhaus (09030040): Sachsenhausen 17\, 63773 Goldbach
CATEGORIES:Saison 2025/26
END:VEVENT
BEGIN:VEVENT
DTSTAMP:20260419T174618Z
DTSTART;TZID=Europe/Berlin:20260612T200000
DTEND;TZID=Europe/Berlin:20260612T223000
SUMMARY:3. Bezirksliga_West DC Goldbach III vs FC Laufach Darts (41)
UID:14ae6fcd-378f-4cb2-9faf-7114f54054df
STATUS:CONFIRMED
DESCRIPTION:3. Bezirksliga West\nBegegnungs-Nr: 41\nHeim: DC Goldbach III\nGast: FC Laufach Darts\nHalle: Altes Feuerwehrhaus (09030040)\nAdresse: Sachsenhausen 17\, 63773 Goldbach\n
LOCATION:Altes Feuerwehrhaus (09030040): Sachsenhausen 17\, 63773 Goldbach
CATEGORIES:Saison 2025/26
END:VEVENT
BEGIN:VEVENT
DTSTAMP:20260419T174618Z
DTSTART;TZID=Europe/Berlin:20260109T200000
DTEND;TZID=Europe/Berlin:20260109T223000
SUMMARY:3. Bezirksliga_West TV Schweinheim vs DC Goldbach III (31)
UID:b8f1063c-aa66-4544-baee-19f163d8454a
STATUS:CONFIRMED
LAST-MODIFIED:20260114T183529Z
DESCRIPTION:3. Bezirksliga West\nBegegnungs-Nr: 31\nHeim: TV Schweinheim\nGast: DC Goldbach III\nHalle: Turnverein Schweinheim (09030210)\nAdresse: Sportweg 8\, 63743 Achaffenburg\n
LOCATION:Turnverein Schweinheim (09030210): Sportweg 8\, 63743 Achaffenburg
CATEGORIES:Saison 2025/26
END:VEVENT
BEGIN:VEVENT
DTSTAMP:20260419T174618Z
DTSTART;TZID=Europe/Berlin:20251017T200000
DTEND;TZID=Europe/Berlin:20251017T223000
SUMMARY:3. Bezirksliga_West DC Steinbach vs DC Goldbach III (11)
UID:10655ddc-b708-4a7c-8477-fe129e198e39
STATUS:CONFIRMED
LAST-MODIFIED:20251019T192709Z
DESCRIPTION:3. Bezirksliga West\nBegegnungs-Nr: 11\nHeim: DC Steinbach\nGast: DC Goldbach III\nHalle: SV Steinbach 1972 e.V. (09030130)\nAdresse: Steinacker 3\, 63867 Johannesberg\n
LOCATION:SV Steinbach 1972 e.V. (09030130): Steinacker 3\, 63867 Johannesberg
CATEGORIES:Saison 2025/26
END:VEVENT
BEGIN:VEVENT
DTSTAMP:20260419T174618Z
DTSTART;TZID=Europe/Berlin:20260130T190000
DTEND;TZID=Europe/Berlin:20260130T213000
SUMMARY:3. Bezirksliga_West FC Laufach Darts vs DC Goldbach III (41)
UID:b8e54e50-bfa4-447d-ac40-983e9da5fa65
STATUS:CONFIRMED
LAST-MODIFIED:20260202T100942Z
DESCRIPTION:3. Bezirksliga West\nBegegnungs-Nr: 41\nHeim: FC Laufach Darts\nGast: DC Goldbach III\nHalle: FC Laufach e.V. (09030480)\nAdresse: Am Eisenhammer 18\, 63846 Laufach\n
LOCATION:FC Laufach e.V. (09030480): Am Eisenhammer 18\, 63846 Laufach
CATEGORIES:Saison 2025/26
END:VEVENT
BEGIN:VEVENT
DTSTAMP:20260419T174618Z
DTSTART;TZID=Europe/Berlin:20260424T200000
DTEND;TZID=Europe/Berlin:20260424T223000
SUMMARY:3. Bezirksliga_West Oscheff Wildboars vs DC Goldbach III (26)
UID:d5d2a4dd-a95f-4d5f-b0a8-cee0130582a6
STATUS:CONFIRMED
DESCRIPTION:3. Bezirksliga West\nBegegnungs-Nr: 26\nHeim: Oscheff Wildboars\nGast: DC Goldbach III\nHalle: Vereinsheim Alte Schule (09030470)\nAdresse: Schulstraße 9\, 63814 Mainaschaff\n
LOCATION:Vereinsheim Alte Schule (09030470): Schulstraße 9\, 63814 Mainaschaff
CATEGORIES:Saison 2025/26
END:VEVENT
BEGIN:VEVENT
DTSTAMP:20260419T174618Z
DTSTART;TZID=Europe/Berlin:20260529T190000
DTEND;TZID=Europe/Berlin:20260529T213000
SUMMARY:3. Bezirksliga_West TV/DC Sulzbach am Main vs DC Goldbach III (36)
UID:69bb980f-9b88-441f-8bc3-096b83809ef0
STATUS:CONFIRMED
DESCRIPTION:3. Bezirksliga West\nBegegnungs-Nr: 36\nHeim: TV/DC Sulzbach am Main\nGast: DC Goldbach III\nHalle: TV Sulzbach 1903 (09030600)\nAdresse: Schulstrasse 2\, 63834 Sulzbach\n
LOCATION:TV Sulzbach 1903 (09030600): Schulstrasse 2\, 63834 Sulzbach
CATEGORIES:Saison 2025/26
END:VEVENT
BEGIN:VEVENT
DTSTAMP:20260419T174618Z
DTSTART;TZID=Europe/Berlin:20251121T190000
DTEND;TZID=Europe/Berlin:20251121T213000
SUMMARY:3. Bezirksliga_West SV Viktoria Waldaschaff 1928 e.V. vs DC Goldbach III (21)
UID:78482d50-f790-4e43-a29a-10a71890dffe
STATUS:CONFIRMED
LAST-MODIFIED:20251123T152908Z
DESCRIPTION:3. Bezirksliga West\nBegegnungs-Nr: 21\nHeim: SV Viktoria Waldaschaff 1928 e.V.\nGast: DC Goldbach III\nHalle: SV Viktoria Waldaschaff 1928 e.V. (09030280)\nAdresse: Höhenstrasse 24\, 63857 Waldaschaff\n
LOCATION:SV Viktoria Waldaschaff 1928 e.V. (09030280): Höhenstrasse 24\, 63857 Waldaschaff
CATEGORIES:Saison 2025/26
END:VEVENT
BEGIN:VEVENT
DTSTAMP:20260419T174618Z
DTSTART;TZID=Europe/Berlin:20250913T190000
DTEND;TZID=Europe/Berlin:20250913T213000
SUMMARY:3. Bezirksliga_West DC Goldbach II vs DC Goldbach III (1)
UID:231e64fb-8dff-48b7-8a10-d69a012cff97
STATUS:CONFIRMED
LAST-MODIFIED:20250915T112657Z
DESCRIPTION:3. Bezirksliga West\nBegegnungs-Nr: 1\nHeim: DC Goldbach II\nGast: DC Goldbach III\nHalle: Altes Feuerwehrhaus (09030040)\nAdresse: Sachsenhausen 17\, 63773 Goldbach\n
LOCATION:Altes Feuerwehrhaus (09030040): Sachsenhausen 17\, 63773 Goldbach
CATEGORIES:Saison 2025/26
END:VEVENT
END:VCALENDAR
